BEGIN:VCALENDAR
PRODID:-//eluceo/ical//2.0/EN
VERSION:2.0
CALSCALE:GREGORIAN
BEGIN:VEVENT
UID:cda67475231c90d24b56c711f06a287d
DTSTAMP:20260420T080628Z
SUMMARY:Kehillah
DESCRIPTION:Jewish Long Beach\nCalendar\nhttps://jewishlongbeach.org/calend
 ar/kehillah4\n\nKehillah
DTSTART;TZID=America/Los_Angeles:20170518T123000
DTEND;TZID=America/Los_Angeles:20170518T140000
END:VEVENT
END:VCALENDAR
