BEGIN:VCALENDAR
PRODID:-//eluceo/ical//2.0/EN
VERSION:2.0
CALSCALE:GREGORIAN
BEGIN:VEVENT
UID:82b721188f23248624444e32a5ca6574
DTSTAMP:20260424T191657Z
SUMMARY:Labor Day Federation/Foundation Offices Closed
DESCRIPTION:Jewish Long Beach\nCalendar\nhttps://jewishlongbeach.org/calend
 ar/labor-day-federationfoundation-offices-closed\n\nFederation/Foundation 
 Closed
DTSTART;TZID=America/Los_Angeles:20170904T000000
DTEND;TZID=America/Los_Angeles:20170904T171200
END:VEVENT
END:VCALENDAR
