BEGIN:VCALENDAR
PRODID:-//eluceo/ical//2.0/EN
VERSION:2.0
CALSCALE:GREGORIAN
BEGIN:VEVENT
UID:1142cd288f47770f5850cc763eb68d2b
DTSTAMP:20260424T070328Z
SUMMARY:Lag B'Omer Shabbat Dinner
DESCRIPTION:Jewish Long Beach\nCalendar\nhttps://jewishlongbeach.org/calend
 ar/lag-bomer-shabbat\n\nFriday | May 1 | 5 pm\n\nwith PJ Library\n\nFree 
 to attend\, pizza available for purchase\n\nJoin us for an evening celebra
 ting Lag B'Omer.  Children will have the opportunity to explore the theme
 s of Lag B'Omer through hands-on sensory experiences and loose parts play.
  We will bring in the light of Shabbat together and enjoy a camp-out styl
 e pizza dinner and s'mores at the Mary Alpert Pool & Hillinger Pool Deck.
  \n\nPizza Dinner: Pizza\, chips\, and fruit dinner will be available. To
  avoid ...
DTSTART;TZID=America/Los_Angeles:20260501T170000
DTEND;TZID=America/Los_Angeles:20260501T190000
END:VEVENT
END:VCALENDAR
