BEGIN:VCALENDAR
PRODID:-//eluceo/ical//2.0/EN
VERSION:2.0
CALSCALE:GREGORIAN
BEGIN:VEVENT
UID:202f6d050f9c20c335c2dd4d2ea216fa
DTSTAMP:20260423T142659Z
SUMMARY:Lentzner Fellows and Mentors Meeting
DESCRIPTION:Jewish Long Beach\nCalendar\nhttps://jewishlongbeach.org/calend
 ar/lentzner-fellows-and-mentors-meeting\n\nMeeting will take place at a pr
 ivate home.
DTSTART;TZID=America/Los_Angeles:20160829T183000
DTEND;TZID=America/Los_Angeles:20160829T203000
END:VEVENT
END:VCALENDAR
