BEGIN:VCALENDAR
PRODID:-//eluceo/ical//2.0/EN
VERSION:2.0
CALSCALE:GREGORIAN
BEGIN:VEVENT
UID:0d7ecfa493593c3dd1e9d68b4bee4f4e
DTSTAMP:20260424T231650Z
SUMMARY:Lentzner Fellows Leadership Group
DESCRIPTION:Jewish Long Beach\nCalendar\nhttps://jewishlongbeach.org/calend
 ar/lentzner-fellows-leadershipgroup080317\n\nLentzner Fellows Leadership G
 roup
DTSTART;TZID=America/Los_Angeles:20170803T183000
DTEND;TZID=America/Los_Angeles:20170803T203000
END:VEVENT
END:VCALENDAR
