BEGIN:VCALENDAR
PRODID:-//eluceo/ical//2.0/EN
VERSION:2.0
CALSCALE:GREGORIAN
BEGIN:VEVENT
UID:a5f4df73c54804b517ef4b5721360792
DTSTAMP:20260422T033056Z
SUMMARY:LOJE/Lion Women's Philanthropy Event Alternate date
DESCRIPTION:Jewish Long Beach\nCalendar\nhttps://jewishlongbeach.org/calend
 ar/lojelion-womens-philanthropy-event-alternate-date\n\nLOJE/Lion Women's 
 Philanthropy Event Alternate date
DTSTART;TZID=America/Los_Angeles:20150818T180000
DTEND;TZID=America/Los_Angeles:20150818T200000
END:VEVENT
END:VCALENDAR
