BEGIN:VCALENDAR
PRODID:-//eluceo/ical//2.0/EN
VERSION:2.0
CALSCALE:GREGORIAN
BEGIN:VEVENT
UID:c57bb5b9aee52012be90a8198f7f7a8f
DTSTAMP:20260423T082812Z
SUMMARY:Long Beach Gives
DESCRIPTION:Jewish Long Beach\nCalendar\nhttps://jewishlongbeach.org/calend
 ar/long-beach-gives-1722535215\n\nLong Beach Gives online fundraiser Jewis
 h Long Beach & the Alpert JCC are raising funds for the Senior Adult Depar
 tment & Programs of the Alpert JCC.
DTSTART;TZID=America/Los_Angeles:20240919T000000
DTEND;TZID=America/Los_Angeles:20240919T000000
END:VEVENT
END:VCALENDAR
