BEGIN:VCALENDAR
PRODID:-//eluceo/ical//2.0/EN
VERSION:2.0
CALSCALE:GREGORIAN
BEGIN:VEVENT
UID:3ef855522b30a48fa0ad1a309c56010c
DTSTAMP:20260419T230908Z
SUMMARY:Mah Jongg 102 Workshop
DESCRIPTION:Jewish Long Beach\nCalendar\nhttps://jewishlongbeach.org/calend
 ar/mah-jongg-102-workshop\n\nSunday | June 8 | 1 PM\n\nDrop-in Mah Jongg i
 s open every Wednesday at 1 PM and Monday at 6 PM (no instruction provided
 )\n\nReady to level up your mahjong game? This class will build on the bas
 ics taught in Mahj Club 101 and Mahj Club Beginning Series. We will cover 
 strategies on what to pass in the Charleston and how to pick a winning han
 d and keep the pace going. There will be spot coaching during play time. B
 ring your NMJL 2025 Card. This class is designed for players who have some
  experie...
DTSTART;TZID=America/Los_Angeles:20250608T130000
DTEND;TZID=America/Los_Angeles:20250608T153000
END:VEVENT
END:VCALENDAR
