BEGIN:VCALENDAR
PRODID:-//eluceo/ical//2.0/EN
VERSION:2.0
CALSCALE:GREGORIAN
BEGIN:VEVENT
UID:9a50b2c50f4d9539945b5ec95e0fef5e
DTSTAMP:20260425T115043Z
SUMMARY:Men's Philanthropy Roundtable
DESCRIPTION:Jewish Long Beach\nCalendar\nhttps://jewishlongbeach.org/calend
 ar/mens-philanthropy-roundtable\n\nMen's Philanthropy Roundtable
DTSTART;TZID=America/Los_Angeles:20160727T200000
DTEND;TZID=America/Los_Angeles:20160727T210000
END:VEVENT
END:VCALENDAR
