BEGIN:VCALENDAR
PRODID:-//eluceo/ical//2.0/EN
VERSION:2.0
CALSCALE:GREGORIAN
BEGIN:VEVENT
UID:361abe7a14fb1eed5287a46a645c4711
DTSTAMP:20260422T083624Z
SUMMARY:NCJW a conversation with Eric Ward & Rabbi Peter Levi
DESCRIPTION:Jewish Long Beach\nCalendar\nhttps://jewishlongbeach.org/calend
 ar/ncjw-a-conversation-with-eric-ward-rabbi-peter-levi\n\nPlease join Nati
 onal Council of Jewish Women\, Greater Long Beach & West Orange County Sec
 tion for a VIRTUAL program on "White Supremacy\, White Nationalism and A
 nti-Semitism Today: a conversation between Eric Ward and Rabbi Peter Levi"
 . Our speakers will discuss the historic coonections among white supremac
 y\, white nationalism\, and anti-semitism\, and how these impact the relat
 ionship between Jews and Blacks today in the pursuit of racial justice. Ci
 vle rights leader Eric Ward is the Executi...
DTSTART;TZID=America/Los_Angeles:20200827T190000
DTEND;TZID=America/Los_Angeles:20200827T210000
END:VEVENT
END:VCALENDAR
