BEGIN:VCALENDAR
PRODID:-//eluceo/ical//2.0/EN
VERSION:2.0
CALSCALE:GREGORIAN
BEGIN:VEVENT
UID:a764dd3a67ab63fdb04565a6f68d9d5b
DTSTAMP:20260423T054116Z
SUMMARY:NCJW Annual Game Day
DESCRIPTION:Jewish Long Beach\nCalendar\nhttps://jewishlongbeach.org/calend
 ar/ncjw-annual-game-day\n\nNCJW Annual Game Day\n\nRusso's Restaurant
DTSTART;TZID=America/Los_Angeles:20150929T100000
DTEND;TZID=America/Los_Angeles:20150929T150000
END:VEVENT
END:VCALENDAR
