BEGIN:VCALENDAR
PRODID:-//eluceo/ical//2.0/EN
VERSION:2.0
CALSCALE:GREGORIAN
BEGIN:VEVENT
UID:9ce99b702bc81bb5555720a91f88ae7b
DTSTAMP:20260420T021224Z
SUMMARY:NCJW Board Meeting
DESCRIPTION:Jewish Long Beach\nCalendar\nhttps://jewishlongbeach.org/calend
 ar/ncjw-board-meeting-1499140451\n\nNCJW Long Beach will hold its monthly
  board meeting.
DTSTART;TZID=America/Los_Angeles:20171003T094500
DTEND;TZID=America/Los_Angeles:20171003T120000
END:VEVENT
END:VCALENDAR
