BEGIN:VCALENDAR
PRODID:-//eluceo/ical//2.0/EN
VERSION:2.0
CALSCALE:GREGORIAN
BEGIN:VEVENT
UID:28c85960d369765471e5bfa340f37e97
DTSTAMP:20260420T001526Z
SUMMARY:NCJW Board Meeting
DESCRIPTION:Jewish Long Beach\nCalendar\nhttps://jewishlongbeach.org/calend
 ar/ncjw-board-meeting-1529109577\n\nNCJW Long Beach Board will hold its mo
 nthly meeting.
DTSTART;TZID=America/Los_Angeles:20180905T190000
DTEND;TZID=America/Los_Angeles:20180905T210000
END:VEVENT
END:VCALENDAR
