BEGIN:VCALENDAR
PRODID:-//eluceo/ical//2.0/EN
VERSION:2.0
CALSCALE:GREGORIAN
BEGIN:VEVENT
UID:b0b50c9c4615030ea1e4f0b8ca974724
DTSTAMP:20260423T154018Z
SUMMARY:NCJW Board Meeting
DESCRIPTION:Jewish Long Beach\nCalendar\nhttps://jewishlongbeach.org/calend
 ar/ncjw-board-meeting-1529109792\n\nNCJW Long Beach Board will hold its mo
 nthly meeting.
DTSTART;TZID=America/Los_Angeles:20190102T190000
DTEND;TZID=America/Los_Angeles:20190102T210000
END:VEVENT
END:VCALENDAR
