BEGIN:VCALENDAR
PRODID:-//eluceo/ical//2.0/EN
VERSION:2.0
CALSCALE:GREGORIAN
BEGIN:VEVENT
UID:e8f000383cf2e3f3fcae6c7ed1d03d00
DTSTAMP:20260423T044626Z
SUMMARY:NCJW Board Meeting
DESCRIPTION:Jewish Long Beach\nCalendar\nhttps://jewishlongbeach.org/calend
 ar/ncjw-board-meeting-1529109913\n\nNCJW Long Beach Board will hold its mo
 nthly meeting.
DTSTART;TZID=America/Los_Angeles:20190306T190000
DTEND;TZID=America/Los_Angeles:20190306T210000
END:VEVENT
END:VCALENDAR
