BEGIN:VCALENDAR
PRODID:-//eluceo/ical//2.0/EN
VERSION:2.0
CALSCALE:GREGORIAN
BEGIN:VEVENT
UID:1ee9a37370b87108368161c50421ce82
DTSTAMP:20260425T104027Z
SUMMARY:NCJW Game Day
DESCRIPTION:Jewish Long Beach\nCalendar\nhttps://jewishlongbeach.org/calend
 ar/ncjw-game-day-1529034724\n\nJoin us for a day of fun and games!
DTSTART;TZID=America/Los_Angeles:20181011T100000
DTEND;TZID=America/Los_Angeles:20181011T150000
END:VEVENT
END:VCALENDAR
