BEGIN:VCALENDAR
PRODID:-//eluceo/ical//2.0/EN
VERSION:2.0
CALSCALE:GREGORIAN
BEGIN:VEVENT
UID:4832f6794a864a4e3c148c210620717c
DTSTAMP:20260423T113725Z
SUMMARY:NCJW Game Day
DESCRIPTION:Jewish Long Beach\nCalendar\nhttps://jewishlongbeach.org/calend
 ar/ncjw-game-day-1569018547\n\nCome learn a fun new game or play your favo
 rite with new and old friends at SeaCliff Country Club\, 6501 Palm Ave.\, 
 Huntington Beach.  We will try to accommodate anyone who needs a bridge p
 artner or a 4th for Mahjong.  The $48.00 fee includes an all-day beverage
  station and a lovely buffet brunch. Please RSVP by October 10 either onli
 ne at www.ncjwlongbeach.org/gameday or by mailing your check to NCJW\, 380
 1 E. Willow St.\, Long Beach\, CA 90803. Be sure to include a list of your
  table friends!
DTSTART;TZID=America/Los_Angeles:20191029T100000
DTEND;TZID=America/Los_Angeles:20191029T150000
END:VEVENT
END:VCALENDAR
