BEGIN:VCALENDAR
PRODID:-//eluceo/ical//2.0/EN
VERSION:2.0
CALSCALE:GREGORIAN
BEGIN:VEVENT
UID:6537b1046ca619440a5b49a5509c62b9
DTSTAMP:20260422T092148Z
SUMMARY:NCJW Get Out the Vote Letter Writing
DESCRIPTION:Jewish Long Beach\nCalendar\nhttps://jewishlongbeach.org/calend
 ar/ncjw-get-out-the-vote-letter-writing-1725845398\n\njoin NCJW to Get Out
  the Vote by writing and embellishing Vote Forward letters. Bring a bag di
 nner. No artistic talent required. We’ll be highlighting and placing sti
 ckers on the letters. RSVP is requested by Thursday\, September 26\, 2024.
DTSTART;TZID=America/Los_Angeles:20240930T180000
DTEND;TZID=America/Los_Angeles:20240930T200000
END:VEVENT
END:VCALENDAR
