BEGIN:VCALENDAR
PRODID:-//eluceo/ical//2.0/EN
VERSION:2.0
CALSCALE:GREGORIAN
BEGIN:VEVENT
UID:a40b90d3e4e39379907342fb0a7bf6a3
DTSTAMP:20260419T174057Z
SUMMARY:NCJW Intergenerational Luncheon
DESCRIPTION:Jewish Long Beach\nCalendar\nhttps://jewishlongbeach.org/calend
 ar/ncjw-intergenerational-luncheon\n\nMore information to follow.
DTSTART;TZID=America/Los_Angeles:20170315T093000
DTEND;TZID=America/Los_Angeles:20170315T123000
END:VEVENT
END:VCALENDAR
