BEGIN:VCALENDAR
PRODID:-//eluceo/ical//2.0/EN
VERSION:2.0
CALSCALE:GREGORIAN
BEGIN:VEVENT
UID:ab4efb7a2f4d59a13d1fc67e126cd1f2
DTSTAMP:20260423T231408Z
SUMMARY:NCJW INTERGENERATIONAL PURIM LUNCHEON
DESCRIPTION:Jewish Long Beach\nCalendar\nhttps://jewishlongbeach.org/calend
 ar/ncjw-intergenerational-purim-luncheon-1529034877\n\nMore info to follow
 .
DTSTART;TZID=America/Los_Angeles:20190320T000000
DTEND;TZID=America/Los_Angeles:20190320T000000
END:VEVENT
END:VCALENDAR
