BEGIN:VCALENDAR
PRODID:-//eluceo/ical//2.0/EN
VERSION:2.0
CALSCALE:GREGORIAN
BEGIN:VEVENT
UID:aa2bfd738dde52e59200b3893c99831e
DTSTAMP:20260422T204609Z
SUMMARY:NCJW Intergenerational Purim Luncheon for Seniors
DESCRIPTION:Jewish Long Beach\nCalendar\nhttps://jewishlongbeach.org/calend
 ar/ncjw-intergenerational-purim-luncheon-for-seniors\n\nNCJW Intergenerati
 onal Purim Luncheon for Seniors
DTSTART;TZID=America/Los_Angeles:20160323T120000
DTEND;TZID=America/Los_Angeles:20160323T140000
END:VEVENT
END:VCALENDAR
