BEGIN:VCALENDAR
PRODID:-//eluceo/ical//2.0/EN
VERSION:2.0
CALSCALE:GREGORIAN
BEGIN:VEVENT
UID:913f980214e40c22396fe6221b78d06c
DTSTAMP:20260424T015421Z
SUMMARY:NCJW Long Beach Section Annual Retreat
DESCRIPTION:Jewish Long Beach\nCalendar\nhttps://jewishlongbeach.org/calend
 ar/ncjw-long-beach-section-annual-retreat-1524087065\n\nCome help us evalu
 ate our past year\, brainstorm\, and plan for next year. All members welco
 me.
DTSTART;TZID=America/Los_Angeles:20180613T090000
DTEND;TZID=America/Los_Angeles:20180613T150000
END:VEVENT
END:VCALENDAR
