BEGIN:VCALENDAR
PRODID:-//eluceo/ical//2.0/EN
VERSION:2.0
CALSCALE:GREGORIAN
BEGIN:VEVENT
UID:7f8817e50711b1dc22c6df60c2f66e37
DTSTAMP:20260421T223427Z
SUMMARY:NCJW Mini Conference
DESCRIPTION:Jewish Long Beach\nCalendar\nhttps://jewishlongbeach.org/calend
 ar/ncjw-mini-conference\n\nMini Conference on Homelessness\, more informa
 tion to follow
DTSTART;TZID=America/Los_Angeles:20170319T100000
DTEND;TZID=America/Los_Angeles:20170319T170000
END:VEVENT
END:VCALENDAR
