BEGIN:VCALENDAR
PRODID:-//eluceo/ical//2.0/EN
VERSION:2.0
CALSCALE:GREGORIAN
BEGIN:VEVENT
UID:58e2bcad3a7544ee7d27b275c55850bd
DTSTAMP:20260424T015401Z
SUMMARY:NCJW Together Under the Sukkah
DESCRIPTION:Jewish Long Beach\nCalendar\nhttps://jewishlongbeach.org/calend
 ar/ncjw-together-under-the-sukkah-1725842668\n\nJoin NCJW under the Sukkah
 ! Although Sukkot recalls our gratitude for the ingathering of bountiful f
 all harvest as we reside in the sukkah\, at our event we will be conductin
 g our own ingathering of diapers and wipes to aid two community organizati
 ons who work to helping the young\, vulnerable children in our community -
  a different kind of "ingathering" no doubt\, but sorely needed.Please bri
 ng a package or two of diapers and some wipes (sizes 4-6 especially urgent
  but ay sizes will be welcomed...
DTSTART;TZID=America/Los_Angeles:20241020T130000
DTEND;TZID=America/Los_Angeles:20241020T150000
END:VEVENT
END:VCALENDAR
