BEGIN:VCALENDAR
PRODID:-//eluceo/ical//2.0/EN
VERSION:2.0
CALSCALE:GREGORIAN
BEGIN:VEVENT
UID:fc2cd09e827e47e1b7e453422e58c3da
DTSTAMP:20260421T232812Z
SUMMARY:Marking October 7th
DESCRIPTION:Jewish Long Beach\nCalendar\nhttps://jewishlongbeach.org/calend
 ar/october-7th-commemoration\n\nEvent Update:  With hearts filled with hop
 e and gratitude for the return of the final 20 living hostages\, we will b
 egin our program at 5:30 PM to make space for celebration through Israeli 
 food\, music\, and community before the screening of We Will Dance Again\,
  which will start around 6:45 PM and has a 90-min runtime. Viewer discreti
 on advised.
DTSTART;TZID=America/Los_Angeles:20251016T173000
DTEND;TZID=America/Los_Angeles:20251016T210000
END:VEVENT
END:VCALENDAR
