BEGIN:VCALENDAR
PRODID:-//eluceo/ical//2.0/EN
VERSION:2.0
CALSCALE:GREGORIAN
BEGIN:VEVENT
UID:5ad8b2b677414ccda06ed3bfb4420ab0
DTSTAMP:20260422T220604Z
SUMMARY:Open House
DESCRIPTION:Jewish Long Beach\nCalendar\nhttps://jewishlongbeach.org/calend
 ar/open-house-1706739104\n\nGet to know the AJCC with a free day at the J!
  Look for discounts for new and current members\, games\, food\, and more!
DTSTART;TZID=America/Los_Angeles:20240225T130000
DTEND;TZID=America/Los_Angeles:20240225T160000
END:VEVENT
END:VCALENDAR
