BEGIN:VCALENDAR
PRODID:-//eluceo/ical//2.0/EN
VERSION:2.0
CALSCALE:GREGORIAN
BEGIN:VEVENT
UID:c5566c66bc943a61e9712b69788d2328
DTSTAMP:20260424T123108Z
SUMMARY:Open House-Tot Shabbat-Rabbi Installation
DESCRIPTION:Jewish Long Beach\nCalendar\nhttps://jewishlongbeach.org/calend
 ar/open-house-tot-shabbat-rabbi-installation-1471288864\n\nCongregation Sh
 ir Chadash invites you to join them for a Gala Evening.  6:15 pm: Tot Sha
 bbat-children ages 0-6\, will experience the warmth & fun of Shabbat throu
 gh play\, song and dance. Afterwards\, parents and children will enjoy Piz
 za\, Ice Cream & Schmoozing.   At 7:30 pm: We will have a Jubilant Shabb
 at Service in celebration of Rabbi Mariana Gindlin's Installation.  Oneg 
 to follow.  
DTSTART;TZID=America/Los_Angeles:20160916T181500
DTEND;TZID=America/Los_Angeles:20160916T213000
END:VEVENT
END:VCALENDAR
