BEGIN:VCALENDAR
PRODID:-//eluceo/ical//2.0/EN
VERSION:2.0
CALSCALE:GREGORIAN
BEGIN:VEVENT
UID:ee562f34e02006ad26b1fc58aeef5d4c
DTSTAMP:20260420T014329Z
SUMMARY:Positive Discipline: Parenting Workshop
DESCRIPTION:Jewish Long Beach\nCalendar\nhttps://jewishlongbeach.org/calend
 ar/parenting-workshop-dec\n\nFriday | December 12 | 9:30 AM\n\nLed by Jam
 are Harris\, this workshop series is guaranteed to take you on a hands-on 
 parenting journey! Each month\, explore practical tools and meaningful ref
 lections to support you in parenting with confidence\, connection\, and jo
 y.\n\n \n\nDecember 12 - The Belief Behind the Behavior & Parents Helping
  Parents\nWhat is your child really communicating through their behavior? 
 In this session\, we’ll explore the “why” behind children’s action
 s and practic...
DTSTART;TZID=America/Los_Angeles:20251212T093000
DTEND;TZID=America/Los_Angeles:20251212T110000
END:VEVENT
END:VCALENDAR
