BEGIN:VCALENDAR
PRODID:-//eluceo/ical//2.0/EN
VERSION:2.0
CALSCALE:GREGORIAN
BEGIN:VEVENT
UID:0ea8cd9bc6d2c034c662589a48512fcf
DTSTAMP:20260422T065919Z
SUMMARY:Mary Alpert Pool Reopens
DESCRIPTION:Jewish Long Beach\nCalendar\nhttps://jewishlongbeach.org/calend
 ar/pool-reopens\n\nIntroducing: The hot new way to stay cool\n\n \n\nAt t
 he Mary Alpert Pool & Hillinger Family Pool Deck\, we've created more than
  just a place to swim—we've built a vibrant center where Jewish connecti
 on flourishes. Whether you're strengthening bonds during family swim time\
 , forming new friendships at our weekly pool parties\, or celebrating trad
 itions at our poolside Shabbat\, our reimagined aquatic space brings our c
 ommunity together through shared experiences.\n\n \n\nLEARN MORE
DTSTART;TZID=America/Los_Angeles:20250526T090000
DTEND;TZID=America/Los_Angeles:20250526T150000
END:VEVENT
END:VCALENDAR
