BEGIN:VCALENDAR
PRODID:-//eluceo/ical//2.0/EN
VERSION:2.0
CALSCALE:GREGORIAN
BEGIN:VEVENT
UID:cdaf4b95b5043a5a1ef52819d95a467c
DTSTAMP:20260423T124528Z
SUMMARY:Pre-K Info Night
DESCRIPTION:Jewish Long Beach\nCalendar\nhttps://jewishlongbeach.org/calend
 ar/pre-k-info-night\n\nTuesday | January 27 | 5:30 PM | Free\n\nGet to kno
 w our Pre-K program with an interactive evening featuring drinks\, guest s
 peakers\, and classroom tours! Plus\, save $50 on registration when you at
 tend!\n\n \n\n \n\nStart the evening with light nosh and drinks\, follo
 wed by a speaker panel and slideshow presentation highlighting our program
  philosophy\, curriculum\, and the Pre-K experience at CY&F. Families will
  then have the opportunity to visit our Pre-K classrooms\, meet our teache
 rs\, and g...
DTSTART;TZID=America/Los_Angeles:20260127T173000
DTEND;TZID=America/Los_Angeles:20260127T203000
END:VEVENT
END:VCALENDAR
