BEGIN:VCALENDAR
PRODID:-//eluceo/ical//2.0/EN
VERSION:2.0
CALSCALE:GREGORIAN
BEGIN:VEVENT
UID:9dbe3b511bd2bd48e0e79f2db75aa92c
DTSTAMP:20260422T061517Z
SUMMARY:Professional Advisors Luncheon
DESCRIPTION:Jewish Long Beach\nCalendar\nhttps://jewishlongbeach.org/calend
 ar/professional-advisors-luncheon\n\nMore information to follow.
DTSTART;TZID=America/Los_Angeles:20160510T113000
DTEND;TZID=America/Los_Angeles:20160510T133000
END:VEVENT
END:VCALENDAR
