BEGIN:VCALENDAR
PRODID:-//eluceo/ical//2.0/EN
VERSION:2.0
CALSCALE:GREGORIAN
BEGIN:VEVENT
UID:4a2fe58dcad71d25a9a69a085986479b
DTSTAMP:20260420T010522Z
SUMMARY:Purim Carnival
DESCRIPTION:Jewish Long Beach\nCalendar\nhttps://jewishlongbeach.org/calend
 ar/purim-carnival\n\nCelebrate Purim at the AJCC Community Purim Carnival 
 with fun attractions\, games\, kosher lunch and much more.
DTSTART;TZID=America/Los_Angeles:20200308T120000
DTEND;TZID=America/Los_Angeles:20200308T150000
END:VEVENT
END:VCALENDAR
