BEGIN:VCALENDAR
PRODID:-//eluceo/ical//2.0/EN
VERSION:2.0
CALSCALE:GREGORIAN
BEGIN:VEVENT
UID:98f4e685ea89a14cba344282f9d801e5
DTSTAMP:20260421T050613Z
SUMMARY:Ride for the Living
DESCRIPTION:Jewish Long Beach\nCalendar\nhttps://jewishlongbeach.org/calend
 ar/rftl-24\n\nParticipate in this symbolic 60-mile ride here at the AJCC! 
 We will be holding several events throughout the day including a Swim\, Wa
 lk\, and Spin. Afterward\, all are welcome to join us for a reception with
  treats and drinks starting at 6:30 PM.\n\n\n6:30 AM – Swim at Mary Alpe
 rt Pool\n9:30 AM – Group Walk meeting in front of the AJCC\n5:30 PM – 
 Themed 90-min Spin (RSVP Required)\n6:30 PM – Reception (Everyone Welcom
 e)\n\n\nWant to help out? Contact Anneleise Thompson at athompson@...
DTSTART;TZID=America/Los_Angeles:20240625T063000
DTEND;TZID=America/Los_Angeles:20240625T200000
END:VEVENT
END:VCALENDAR
