BEGIN:VCALENDAR
PRODID:-//eluceo/ical//2.0/EN
VERSION:2.0
CALSCALE:GREGORIAN
BEGIN:VEVENT
UID:8852eff81483e493660f531615451757
DTSTAMP:20260421T011207Z
SUMMARY:Ride for the Living
DESCRIPTION:Jewish Long Beach\nCalendar\nhttps://jewishlongbeach.org/calend
 ar/rftl26\n\nMonday | June 22 | 6 PM\n\nParticipate in this symbolic 60-mi
 le ride here at the AJCC with a 90-minute satellite spin ride! Afterward\,
  participants are invited to a reception with treats and drinks.\n\nSpace 
 is limited. Register in the Alpert JCC App to secure your spot!\n\n \n\nW
 hat is Ride for the Living?\n\nRide for the Living (RFTL) commemorates the
  60 miles liberated Jews walked from Auschwitz-Birkenau to Krakow\, Poland
 . Participants from around the world gather to take part in this glo...
DTSTART;TZID=America/Los_Angeles:20260622T180000
DTEND;TZID=America/Los_Angeles:20260622T200000
END:VEVENT
END:VCALENDAR
