BEGIN:VCALENDAR
PRODID:-//eluceo/ical//2.0/EN
VERSION:2.0
CALSCALE:GREGORIAN
BEGIN:VEVENT
UID:3cbb9a1753a7dc314651e3d1fbc344c6
DTSTAMP:20260421T080424Z
SUMMARY:Ride for the Living
DESCRIPTION:Jewish Long Beach\nCalendar\nhttps://jewishlongbeach.org/calend
 ar/ride-for-the-living\n\nMonday | June 9 | 6 PM\n\nParticipate in this sy
 mbolic 60-mile ride here at the AJCC with a 90-minute satellite spin ride!
  Afterward\, participants are invited for a reception with treats and drin
 ks. Space is limited. Register to secure your spot!\n\n \n\nWhat is Ride 
 for the Living?\n\nRide for the Living (RFTL) commemorates the 60 miles li
 berated Jews walked from Auschwitz-Birkenau to Krakow\, Poland. Participan
 ts from around the world gather to take part in this global challenge\, in
  person ...
DTSTART;TZID=America/Los_Angeles:20250609T180000
DTEND;TZID=America/Los_Angeles:20250609T200000
END:VEVENT
END:VCALENDAR
