BEGIN:VCALENDAR
PRODID:-//eluceo/ical//2.0/EN
VERSION:2.0
CALSCALE:GREGORIAN
BEGIN:VEVENT
UID:50dadd46df4c0d6c3383f2f906092660
DTSTAMP:20260422T033026Z
SUMMARY:Ride for the Living Global Challenge
DESCRIPTION:Jewish Long Beach\nCalendar\nhttps://jewishlongbeach.org/calend
 ar/ride-for-the-living-global-challenge-1654805173\n\nYou’re invited to 
 take on this unique\, fitness experience that challenges you to engage you
 r body\, soul and mind by cycling\, running\, walking or hiking the symbol
 ic 60-mile distance between Auschwitz-Birkenau and JCC Krakow\, the center
  of the resurgence of modern Jewish life in Poland.
DTSTART;TZID=America/Los_Angeles:20220613T180000
DTEND;TZID=America/Los_Angeles:20220613T193000
END:VEVENT
END:VCALENDAR
