BEGIN:VCALENDAR
PRODID:-//eluceo/ical//2.0/EN
VERSION:2.0
CALSCALE:GREGORIAN
BEGIN:VEVENT
UID:dcde708bcc3b96be42a2a3d672eb2d24
DTSTAMP:20260422T185555Z
SUMMARY:Rosh HaShanah Federation Closed
DESCRIPTION:Jewish Long Beach\nCalendar\nhttps://jewishlongbeach.org/calend
 ar/rosh-hashanah-federation-closed\n\nRosh HaShanah Closed
DTSTART;TZID=America/Los_Angeles:20150915T080000
DTEND;TZID=America/Los_Angeles:20150915T170000
END:VEVENT
END:VCALENDAR
