BEGIN:VCALENDAR
PRODID:-//eluceo/ical//2.0/EN
VERSION:2.0
CALSCALE:GREGORIAN
BEGIN:VEVENT
UID:38bab28e7e776113b039679815d2c804
DTSTAMP:20260423T052550Z
SUMMARY:Senior Shabbat & Luncheon
DESCRIPTION:Jewish Long Beach\nCalendar\nhttps://jewishlongbeach.org/calend
 ar/senior-shabbat-mar25\n\nShabbat Morning Service at 11 AM led by Temple 
 Israel clergy\n\n\nFollowed by Kosher Style lunch & entertainment\nFree to
  our senior community! Connect with other seniors in our community with a 
 brief Shabbat morning service\, followed by a fun-filled luncheon!\n\n \n
 \nShabbat entertainment is funded by Temple Israel’s Wolli and Sarah Kae
 lter Sabbath Fellowship Fund\n\nLunch is funded by the Manely Cohen Fund o
 f the Alpert JCC\n\nRSVP & Let us know you’re coming! For questions\, co
 ntact Dr...
DTSTART;TZID=America/Los_Angeles:20250329T000000
DTEND;TZID=America/Los_Angeles:20250329T235959
END:VEVENT
END:VCALENDAR
