BEGIN:VCALENDAR
PRODID:-//eluceo/ical//2.0/EN
VERSION:2.0
CALSCALE:GREGORIAN
BEGIN:VEVENT
UID:cf332208b122b4ea4e39b858e506e52f
DTSTAMP:20260424T104743Z
SUMMARY:Senior Shabbat & Luncheon
DESCRIPTION:Jewish Long Beach\nCalendar\nhttps://jewishlongbeach.org/calend
 ar/senior-shabbat-sept13\n\nShabbat Morning Service at 11 AM led by Temple
  Israel clergy\n\nFollowed by Kosher Style lunch & entertainment\n\nFree t
 o our senior community! Connect with other seniors in our community with a
  brief Shabbat morning service\, followed by a fun-filled luncheon!\n\n*On
 line registration closes at 3 PM the day before\n\n \n\nRSVP above & let
  us know you’re coming! For questions\, contact Dr. Susan Mathieu at sma
 thieu@alpertjcc.org\n\n \n\nShabbat entertainment is funded by Temple Isr
 ael’s W...
DTSTART;TZID=America/Los_Angeles:20250913T110000
DTEND;TZID=America/Los_Angeles:20250913T130000
END:VEVENT
END:VCALENDAR
