BEGIN:VCALENDAR
PRODID:-//eluceo/ical//2.0/EN
VERSION:2.0
CALSCALE:GREGORIAN
BEGIN:VEVENT
UID:7ce262ade0a775d9a9517647d111ae94
DTSTAMP:20260423T053809Z
SUMMARY:Sharon-Carmel Hadassh Event 
DESCRIPTION:Jewish Long Beach\nCalendar\nhttps://jewishlongbeach.org/calend
 ar/sharon-carmel-hadassh-event\n\nwith the California Cabaret
DTSTART;TZID=America/Los_Angeles:20160626T133000
DTEND;TZID=America/Los_Angeles:20160626T160000
END:VEVENT
END:VCALENDAR
