BEGIN:VCALENDAR
PRODID:-//eluceo/ical//2.0/EN
VERSION:2.0
CALSCALE:GREGORIAN
BEGIN:VEVENT
UID:4a279289fb9f61114c0ad29fc518cc7d
DTSTAMP:20260423T071921Z
SUMMARY:Shauvuot I Federation/Foundation Offices Closed
DESCRIPTION:Jewish Long Beach\nCalendar\nhttps://jewishlongbeach.org/calend
 ar/shauvuot-i-federationfoundation-offices-closed\n\nFederation/Foundation
  Offices Closed
DTSTART;TZID=America/Los_Angeles:20170531T000000
DTEND;TZID=America/Los_Angeles:20170531T170800
END:VEVENT
END:VCALENDAR
