BEGIN:VCALENDAR
PRODID:-//eluceo/ical//2.0/EN
VERSION:2.0
CALSCALE:GREGORIAN
BEGIN:VEVENT
UID:035c9ee4a7a7e2fe019bd04f806a41cd
DTSTAMP:20260420T030137Z
SUMMARY:Shavuot I
DESCRIPTION:Jewish Long Beach\nCalendar\nhttps://jewishlongbeach.org/calend
 ar/shavuot-i\n\nShavuot 
DTSTART;TZID=America/Los_Angeles:20190609T080000
DTEND;TZID=America/Los_Angeles:20190609T170000
END:VEVENT
END:VCALENDAR
