BEGIN:VCALENDAR
PRODID:-//eluceo/ical//2.0/EN
VERSION:2.0
CALSCALE:GREGORIAN
BEGIN:VEVENT
UID:ccda779d90793bc54935241493ac8265
DTSTAMP:20260421T155315Z
SUMMARY:Shavuot II Federation/Foundation Offices Closed
DESCRIPTION:Jewish Long Beach\nCalendar\nhttps://jewishlongbeach.org/calend
 ar/shavuot-ii-federationfoundation-offices-closed\n\nFederation/Foundation
  Closed
DTSTART;TZID=America/Los_Angeles:20180521T000000
DTEND;TZID=America/Los_Angeles:20180521T172200
END:VEVENT
END:VCALENDAR
