BEGIN:VCALENDAR
PRODID:-//eluceo/ical//2.0/EN
VERSION:2.0
CALSCALE:GREGORIAN
BEGIN:VEVENT
UID:2521ed0db8a22df77ade71eefa6f5e4c
DTSTAMP:20260420T141155Z
SUMMARY:Shield of David & Magen David Event
DESCRIPTION:Jewish Long Beach\nCalendar\nhttps://jewishlongbeach.org/calend
 ar/shield-of-david-magen-david-event\n\nMen's Philanthropy Event
DTSTART;TZID=America/Los_Angeles:20160818T180000
DTEND;TZID=America/Los_Angeles:20160818T200000
END:VEVENT
END:VCALENDAR
