BEGIN:VCALENDAR
PRODID:-//eluceo/ical//2.0/EN
VERSION:2.0
CALSCALE:GREGORIAN
BEGIN:VEVENT
UID:3cf4c9a832cf1e3f89f6e66e4ddf3e3d
DTSTAMP:20260419T233130Z
SUMMARY:Skondovitch: Abstract Expressionist Art
DESCRIPTION:Jewish Long Beach\nCalendar\nhttps://jewishlongbeach.org/calend
 ar/skondovitch-abstract-expressionist-art\n\nThe Zena and Pauline Gatov Ga
 llery at the Alpert JCC presents\nSkondovitch\nArtwork by the late abstrac
 t expressionist painter Alfred Skondovitch\n \n\nExhibition: August 2 –
  September 23\n\nArtist Reception: Sunday\, August 4\, 2 – 4 PM (Please 
 RSVP below to let us know you’re coming!)\n\nGallery Hours: Open to the 
 Public\n\nA sampling of the vast work of the late abstract expressionist p
 ainter\, Alfred Skondovitch.\n\nOf Jewish background\, Skondovitch was bor
 n in London to Eastern Europ...
DTSTART;TZID=America/Los_Angeles:20240804T140000
DTEND;TZID=America/Los_Angeles:20240804T160000
END:VEVENT
END:VCALENDAR
