BEGIN:VCALENDAR
PRODID:-//eluceo/ical//2.0/EN
VERSION:2.0
CALSCALE:GREGORIAN
BEGIN:VEVENT
UID:b19235cda068cc20052fdd16b08e9c4a
DTSTAMP:20260419T163614Z
SUMMARY:Spain and Israel Interest Meeting
DESCRIPTION:Jewish Long Beach\nCalendar\nhttps://jewishlongbeach.org/calend
 ar/spain-and-israel-interest-meeting\n\nSpain and Israel Interest Meeting
DTSTART;TZID=America/Los_Angeles:20141027T183000
DTEND;TZID=America/Los_Angeles:20141027T193000
END:VEVENT
END:VCALENDAR
