BEGIN:VCALENDAR
PRODID:-//eluceo/ical//2.0/EN
VERSION:2.0
CALSCALE:GREGORIAN
BEGIN:VEVENT
UID:6f75e93f93163e59cc3b9c1e0df16766
DTSTAMP:20260423T041908Z
SUMMARY:Adopt a Family
DESCRIPTION:Jewish Long Beach\nCalendar\nhttps://jewishlongbeach.org/calend
 ar/sponsor-a-family\n\nGift Drop Off Deadline: Friday\, December 12\n\nGif
 t Wrapping: Tuesday\, December 16\, 10:30 AM\n\nIn partnership with JFCS\n
 \n \n\nMake a difference for a family in need this holiday season! We're 
 sponsoring two local families to ensure they have the best holiday possibl
 e by collecting donations and gifts for each family.\n\n \n\nIn need of:\
 n\n\nGift Cards (Gas\, Grocery\, and Target)\nMonetary Gifts\nAmazon Wish 
 List Items (see below)\n\n\n \n\nDonations may be dropped off at the AJCC
 .\n...
DTSTART;TZID=America/Los_Angeles:20251216T103000
DTEND;TZID=America/Los_Angeles:20251216T120000
END:VEVENT
END:VCALENDAR
