BEGIN:VCALENDAR
PRODID:-//eluceo/ical//2.0/EN
VERSION:2.0
CALSCALE:GREGORIAN
BEGIN:VEVENT
UID:2bb7e4d6cfd23bbc364be74ec61ee090
DTSTAMP:20260421T185453Z
SUMMARY:CANCELLED Stop the Bleed Training
DESCRIPTION:Jewish Long Beach\nCalendar\nhttps://jewishlongbeach.org/calend
 ar/stop-the-bleed-july31\n\nThis meeting has been cancelled. We hope to se
 e you at the next class.\n\nJoin our Community Security Director\, Meredit
 h Burke\, for a training program designed to provide community members wit
 h the skills to save lives by applying emergency first aid to control blee
 ding.\n\n \n\nLearning Objectives\n\n\nUnderstand why bleeding is the #1 
 preventable death after an injury and how to save a life\nIdentify when li
 fe-threatening bleeding is occurring\nLearn how to control bleeding when s
 omeone...
DTSTART;TZID=America/Los_Angeles:20240731T180000
DTEND;TZID=America/Los_Angeles:20240731T190000
END:VEVENT
END:VCALENDAR
