BEGIN:VCALENDAR
PRODID:-//eluceo/ical//2.0/EN
VERSION:2.0
CALSCALE:GREGORIAN
BEGIN:VEVENT
UID:1274ceaab329aa8e3147abc23db49885
DTSTAMP:20260424T231430Z
SUMMARY:Strike a Light: A Hanukkah Bowling Bash
DESCRIPTION:Jewish Long Beach\nCalendar\nhttps://jewishlongbeach.org/calend
 ar/strike-a-light-a-hanukkah-bowling-bash-1730321041\n\nLight up your Fest
 ival of Lights (a little early) with a night of bowling and celebration at
  the Beth David Young Professionals (20's & 30's) Hanukkah Bowling Bash!\n
 \nEnjoy exclusive access to our own private room with bowling lanes\, loun
 ge area and an open bar.\n\nYou can enjoy a variety of small bites\, appet
 izers and desserts. Get it the festive spirit with our photo booth and par
 ticipate in our raffle for a chance to win some fantastic prizes.\n\nDon
 ’t miss this chance to connect with f...
DTSTART;TZID=America/Los_Angeles:20241215T163000
DTEND;TZID=America/Los_Angeles:20241215T190000
END:VEVENT
END:VCALENDAR
