BEGIN:VCALENDAR
PRODID:-//eluceo/ical//2.0/EN
VERSION:2.0
CALSCALE:GREGORIAN
BEGIN:VEVENT
UID:7003b440ed6590fd59c841fef262594e
DTSTAMP:20260419T122745Z
SUMMARY:Sukkot Family Program
DESCRIPTION:Jewish Long Beach\nCalendar\nhttps://jewishlongbeach.org/calend
 ar/sukkot-family-program\n\n \n\nNow it is time to turn our attention fro
 m the holidays of Rosh Hashanah and Yom Kippur\, to the festive and joyous
  celebration of Sukkot\, the time in which we give thanks to G-D for the m
 any blessings we each have in our lives. \n\nDuring this time of year\, m
 any of us have Sukkahs in our homes and/ or community centers. Tradition t
 ells us that it is a mitzvah to decorate the sukkah. \n\nPlease join us t
 o make Sukkot jar lamps! Learn about Sukkot and hear a special Sukkot Stor
 y. \n\nFor...
DTSTART;TZID=America/Los_Angeles:20201005T160000
DTEND;TZID=America/Los_Angeles:20201005T170000
END:VEVENT
END:VCALENDAR
